BEGIN:VCALENDAR
VERSION:2.0
PRODID:-//PFT Social Club - ECPv6.15.20//NONSGML v1.0//EN
CALSCALE:GREGORIAN
METHOD:PUBLISH
X-WR-CALNAME:PFT Social Club
X-ORIGINAL-URL:https://prettyfunthingsco.com
X-WR-CALDESC:Events for PFT Social Club
REFRESH-INTERVAL;VALUE=DURATION:PT1H
X-Robots-Tag:noindex
X-PUBLISHED-TTL:PT1H
BEGIN:VTIMEZONE
TZID:America/Los_Angeles
BEGIN:DAYLIGHT
TZOFFSETFROM:-0800
TZOFFSETTO:-0700
TZNAME:PDT
DTSTART:20230312T100000
END:DAYLIGHT
BEGIN:STANDARD
TZOFFSETFROM:-0700
TZOFFSETTO:-0800
TZNAME:PST
DTSTART:20231105T090000
END:STANDARD
BEGIN:DAYLIGHT
TZOFFSETFROM:-0800
TZOFFSETTO:-0700
TZNAME:PDT
DTSTART:20240310T100000
END:DAYLIGHT
BEGIN:STANDARD
TZOFFSETFROM:-0700
TZOFFSETTO:-0800
TZNAME:PST
DTSTART:20241103T090000
END:STANDARD
BEGIN:DAYLIGHT
TZOFFSETFROM:-0800
TZOFFSETTO:-0700
TZNAME:PDT
DTSTART:20250309T100000
END:DAYLIGHT
BEGIN:STANDARD
TZOFFSETFROM:-0700
TZOFFSETTO:-0800
TZNAME:PST
DTSTART:20251102T090000
END:STANDARD
END:VTIMEZONE
BEGIN:VEVENT
DTSTART;TZID=America/Los_Angeles:20240908T080000
DTEND;TZID=America/Los_Angeles:20240908T140000
DTSTAMP:20260420T083927
CREATED:20240806T202818Z
LAST-MODIFIED:20240905T040458Z
UID:885-1725782400-1725804000@prettyfunthingsco.com
SUMMARY:Desert Photoshoot in Palm Springs
DESCRIPTION:Saddle up\, ladies! We will be driving to Palm Springs for a girl’s day in the desert. We will be hosting a cowgirl photoshoot in the desert of Palm Springs. Afterward\, we will then head out for a super chic brunch and walk around DTPS!\n\nAnd remember\, in the wild\, Wild West of Palm Springs\, it’s every cowgirl for themselves when it comes to filling their bellies! (Food and drinks sold separately)\n\nDate: Sunday\, September 8th \nTime: Starts at 8:00AM \nLocation: Palm Springs\, CA (The exact event location will be disclosed to attendees privately after ticket purchase.) \nAttire: Country/Western \nThis event is open to all – You can purchase tickets to attend the event as a Non-Member (General Admission) or PFT Social Club Member. \n*By purchasing a ticket to attend one of the Pretty Fun Things events\, you acknowledge that photos and video activities will be taken. By purchasing a ticket to attend an Event from PFT you hereby grant them the right to use\, reproduce\, and/or publish photographs and/or videos that may pertain of you\, including your image\, likeness\, and/or voice. This includes\, but is not limited to\, the right to use such materials in any form of media\, including websites\, social media platforms\, promotional materials\, and other marketing efforts. \n*This event operates under a non-refundable policy. By purchasing a ticket\, you are acknowledging and agreeing to attend the event.
URL:https://prettyfunthingsco.com/pft/desert-photoshoot-in-palm-springs/
LOCATION:Palm Springs\, CA\, Palm Springs\, CA\, United States
CATEGORIES:Cowgirl,events
ATTACH;FMTTYPE=image/png:https://prettyfunthingsco.com/wp-content/uploads/2024/08/PFT_DTPS.png
END:VEVENT
BEGIN:VEVENT
DTSTART;TZID=America/Los_Angeles:20240915T110000
DTEND;TZID=America/Los_Angeles:20240915T123000
DTSTAMP:20260420T083927
CREATED:20240827T011845Z
LAST-MODIFIED:20240905T040511Z
UID:930-1726398000-1726403400@prettyfunthingsco.com
SUMMARY:September Tennis Meet Up
DESCRIPTION:Join us for a fun morning with your Ladies at our monthly tennis meet up. We will head out to lunch nearby after (meals to be purchased separately). \nSunday\, September 15 \n11:00AM PT \nNewport Beach\, CA \nThe Details:\n– Tennis Attire\n– Bring a Racket\n– Bring Water \nEnjoy:\n– Custom Goodies\n– Tennis Balls Provided\n– Quality time with your gals\n– And other Surprises \nWe can’t wait to see you there! \nThis event is open to all – You can purchase tickets to attend the event as a Non-Member (General Admission) or PFT Social Club Member. \n*By purchasing a Ticket to attend one of Pretty Fun Things Events\, you are acknowledging that photos and video activities will be taken. By purchasing a ticket to attend an Event from PFT you hereby grant them the right to use\, reproduce\, and/or publish photographs and/or videos that may pertain of you\, including your image\, likeness\, and/or voice. This includes\, but is not limited to\, the right to use such materials in any form of media\, including websites\, social media platforms\, promotional materials\, and other marketing efforts. \n\n*This event operates under a non-refundable policy. By purchasing a ticket\, you are acknowledging and agreeing to attend the event.
URL:https://prettyfunthingsco.com/pft/september-2024-tennis-meet-up/
LOCATION:Bonita Canyon Sports Park\, 1641 Ford Rd\, Newport Beach\, CA\, 92660\, United States
CATEGORIES:events,Tennis
ATTACH;FMTTYPE=image/png:https://prettyfunthingsco.com/wp-content/uploads/2024/08/PFT_TN_2409.png
END:VEVENT
BEGIN:VEVENT
DTSTART;TZID=America/Los_Angeles:20240921T084500
DTEND;TZID=America/Los_Angeles:20240921T120000
DTSTAMP:20260420T083927
CREATED:20240904T041016Z
LAST-MODIFIED:20250208T152947Z
UID:1103-1726908300-1726920000@prettyfunthingsco.com
SUMMARY:Two Girls and the Tee Golf Outing Kickoff
DESCRIPTION:RuthTriesGolf x Pretty Fun Things presents: \nTwo Girls and the Tee \nJoin us for a fun day of golf! \nTwo Girls and the Tee will hold its first event at the Westdrift Golf Course in Manhattan Beach\, CA\, on Saturday\, September 21\, 2024. \nTwo Girls and the Tee: Website \nDate: Saturday\, September 21\, 2024 \nTime: Arrive at 8:45am to mingle with fellow golf ladies\, tee time starts at 9:20am! \nWhere: Westdrift Golf Course – Manhattan Beach\, CA \nGolf Attire Colors: Orange and Aqua Blue \nJoin us for a social hour at the Jute Coastal Bar and Kitchen (hotel restaurant) after! \n  \nCost: $50 (does not include push cart – this is available for rental separately) \nA fun and surprise raffle will be held during the event (worth $100+). \n  \n* You do not have to be a PFT Social Club member to purchase a ticket to the event. \n*By purchasing a Ticket to attend one of Pretty Fun Things / RuthTriesGolf / Two Girls and the Tee Events\, you are acknowledging that photos and video activities will be taken. By purchasing a ticket to attend an Event from Pretty Fun Things / RuthTriesGolf / Two Girls and the Tee\, you hereby grant them the right to use\, reproduce\, and/or publish photographs and/or videos that may pertain to you\, including your image\, likeness\, and/or voice. This includes\, but is not limited to\, the right to use such materials in any form of media\, including websites\, social media platforms\, promotional materials\, and other marketing efforts. \n*This event operates under a non-refundable policy. By purchasing a ticket\, you are acknowledging and agreeing to attend the event.
URL:https://prettyfunthingsco.com/pft/two-girls-and-the-tee-golf-outing-kickoff/
LOCATION:Westdrift Golf Course\, 1400 Parkview Ave\, Manhattan Beach\, CA\, 90266\, United States
CATEGORIES:Golf
ATTACH;FMTTYPE=image/png:https://prettyfunthingsco.com/wp-content/uploads/2024/09/PFT_WD.png
END:VEVENT
END:VCALENDAR